BEGIN:VCALENDAR
VERSION:2.0
PRODID:-//Community College of Philadelphia//NONSGML//EN
X-WR-CALNAME:Calendar
CALSCALE:GREGORIAN
BEGIN:VEVENT
UID:176069eb83fb49601
DTSTART:20240404T040000Z
DTEND:20240404T040000Z
DTSTAMP:20240404T040000Z
CREATED:20260424T105347Z
DESCRIPTION:
LAST-MODIFIED:20240404T040000Z
LOCATION:
SUMMARY:All Black Students Alliance Club Weekly Meet -up  
SEQUENCE:0
STATUS:CONFIRMED
TRANSP:OPAQUE
END:VEVENT
END:VCALENDAR